BEGIN:VCALENDAR
VERSION:2.0
PRODID:-//Tukios.com/
BEGIN:VEVENT
UID:3dec2b1c-bfb4-45a9-a4e5-e6bbf1a75aef@www.huffguthrie.com
DTSTAMP:20260420T022151Z
DTSTART:20260422T150000Z
DTEND:20260422T180000Z
SUMMARY:Visitation
DESCRIPTION:
URL:https://www.huffguthrie.com/obituaries/stephen-guth
LOCATION: 312 West Park St.  Franklin PA 16323
GEO:41.3982639;-79.8294773
END:VEVENT
END:VCALENDAR