BEGIN:VCALENDAR
VERSION:2.0
PRODID:-//Tukios.com/
BEGIN:VEVENT
UID:66c277e2-4214-4acf-8ff2-7e743280eb89@www.huffguthrie.com
DTSTAMP:20260420T021742Z
DTSTART:20260422T210000Z
DTEND:20260423T000000Z
SUMMARY:Visitation
DESCRIPTION:
URL:https://www.huffguthrie.com/obituaries/stephen-guth
LOCATION: 312 West Park St.  Franklin PA 16323
GEO:41.3982639;-79.8294773
END:VEVENT
END:VCALENDAR