BEGIN:VCALENDAR
VERSION:2.0
PRODID:-//Tukios.com/
BEGIN:VEVENT
UID:0334b72e-4d9e-4f70-8a79-b127b8b05c33@www.huffguthrie.com
DTSTAMP:20260420T021748Z
DTSTART:20260423T150000Z
DTEND:20260423T160000Z
SUMMARY:Mass
DESCRIPTION:
URL:https://www.huffguthrie.com/obituaries/stephen-guth
LOCATION: 949 Liberty St.  Franklin PA 16323
GEO:41.3926948;-79.8256692
END:VEVENT
END:VCALENDAR