BEGIN:VCALENDAR
VERSION:2.0
PRODID:-//Tukios.com/
BEGIN:VEVENT
UID:b09b9f4a-e840-41bb-9441-24a2656ce567@www.huffguthrie.com
DTSTAMP:20260425T203651Z
DTSTART:20260428T190000Z
DTEND:20260428T230000Z
SUMMARY:Visitation
DESCRIPTION:
URL:https://www.huffguthrie.com/obituaries/theodore-mcelroy-jr
LOCATION: 312 West Park St.  Franklin PA 16323
GEO:41.3982639;-79.8294773
END:VEVENT
END:VCALENDAR