BEGIN:VCALENDAR
VERSION:2.0
PRODID:-//Tukios.com/
BEGIN:VEVENT
UID:e0382eec-af85-4219-b16d-34cf81136448@www.huffguthrie.com
DTSTAMP:20260425T203422Z
DTSTART:20260429T170000Z
DTEND:20260429T180000Z
SUMMARY:Funeral Service
DESCRIPTION:
URL:https://www.huffguthrie.com/obituaries/theodore-mcelroy-jr
LOCATION: 160 Atlantic Ave.  Franklin PA 16323
GEO:41.4041818;-79.8344209
END:VEVENT
END:VCALENDAR